BEGIN:VCALENDAR
VERSION:2.0
PRODID:-//Your Organization//NONSGML v1.0//EN
BEGIN:VEVENT
UID:unique-id@example.com
DTSTAMP:20260430T100000Z
DTSTART:20260430T110000Z
DTEND:20260430T113000Z
SUMMARY:COFFEE BREAK ☕️ a QFD-vel
DESCRIPTION:A QFD Group szakmai eseménye. Téma: SPC változások
LOCATION: https://teams.microsoft.com/meet/3180584607787?p=ECuWiY2PC5k6VB2Gcj
END:VEVENT
END:VCALENDAR